BEGIN:VCALENDAR
VERSION:2.0
PRODID:-//Pascal Zenou - ECPv6.15.20//NONSGML v1.0//EN
CALSCALE:GREGORIAN
METHOD:PUBLISH
X-WR-CALNAME:Pascal Zenou
X-ORIGINAL-URL:https://www.pascalzenou.com
X-WR-CALDESC:Évènements pour Pascal Zenou
REFRESH-INTERVAL;VALUE=DURATION:PT1H
X-Robots-Tag:noindex
X-PUBLISHED-TTL:PT1H
BEGIN:VTIMEZONE
TZID:Europe/Paris
BEGIN:DAYLIGHT
TZOFFSETFROM:+0100
TZOFFSETTO:+0200
TZNAME:CEST
DTSTART:20210328T010000
END:DAYLIGHT
BEGIN:STANDARD
TZOFFSETFROM:+0200
TZOFFSETTO:+0100
TZNAME:CET
DTSTART:20211031T010000
END:STANDARD
BEGIN:DAYLIGHT
TZOFFSETFROM:+0100
TZOFFSETTO:+0200
TZNAME:CEST
DTSTART:20220327T010000
END:DAYLIGHT
BEGIN:STANDARD
TZOFFSETFROM:+0200
TZOFFSETTO:+0100
TZNAME:CET
DTSTART:20221030T010000
END:STANDARD
BEGIN:DAYLIGHT
TZOFFSETFROM:+0100
TZOFFSETTO:+0200
TZNAME:CEST
DTSTART:20230326T010000
END:DAYLIGHT
BEGIN:STANDARD
TZOFFSETFROM:+0200
TZOFFSETTO:+0100
TZNAME:CET
DTSTART:20231029T010000
END:STANDARD
BEGIN:DAYLIGHT
TZOFFSETFROM:+0100
TZOFFSETTO:+0200
TZNAME:CEST
DTSTART:20240331T010000
END:DAYLIGHT
BEGIN:STANDARD
TZOFFSETFROM:+0200
TZOFFSETTO:+0100
TZNAME:CET
DTSTART:20241027T010000
END:STANDARD
END:VTIMEZONE
BEGIN:VEVENT
DTSTART;TZID=Europe/Paris:20231019T200000
DTEND;TZID=Europe/Paris:20231019T223000
DTSTAMP:20260420T124826
CREATED:20230911T074124Z
LAST-MODIFIED:20230922T094915Z
UID:3639-1697745600-1697754600@www.pascalzenou.com
SUMMARY:Concert le 19 octobre 2023 au Connexion Live à Toulouse
DESCRIPTION:Billet sur place : 10\,00€
URL:https://www.pascalzenou.com/evenement/concert-le-19-octobre-2023-au-connexion-live-a-toulouse/
LOCATION:Le Connexion Live\, 8 rue Gabriel Péri\, Toulouse\, Occitanie\, 31000\, France
CATEGORIES:Concert
ATTACH;FMTTYPE=image/jpeg:https://www.pascalzenou.com/wp-content/uploads/2023/09/img-concert-19-10-23.jpg
END:VEVENT
BEGIN:VEVENT
DTSTART;TZID=Europe/Paris:20230630T200000
DTEND;TZID=Europe/Paris:20230630T223000
DTSTAMP:20260420T124826
CREATED:20230320T164811Z
LAST-MODIFIED:20230614T094128Z
UID:3266-1688155200-1688164200@www.pascalzenou.com
SUMMARY:Concert le 30 juin au Connexion Live à Toulouse
DESCRIPTION:Billet sur place : 10\,00€
URL:https://www.pascalzenou.com/evenement/concert-le-30-juin-au-connexion-live-a-toulouse/
LOCATION:Le Connexion Live\, 8 rue Gabriel Péri\, Toulouse\, Occitanie\, 31000\, France
CATEGORIES:Concert
ATTACH;FMTTYPE=image/jpeg:https://www.pascalzenou.com/wp-content/uploads/2022/06/affiche-pascal-zenou-concert-sRVB-321.jpg
END:VEVENT
BEGIN:VEVENT
DTSTART;TZID=Europe/Paris:20221112T120000
DTEND;TZID=Europe/Paris:20221112T140000
DTSTAMP:20260420T124826
CREATED:20221109T143408Z
LAST-MODIFIED:20221109T143445Z
UID:2295-1668254400-1668261600@www.pascalzenou.com
SUMMARY:Live acoustique à France Bleu Occitanie
DESCRIPTION:Pascal Zenou se produira lors d’un concert live acoustique à 12h00 dans les locaux de France Bleu Occitanie à Toulouse.
URL:https://www.pascalzenou.com/evenement/live-acoustique-a-france-bleu-occitanie/
LOCATION:Occitanie
CATEGORIES:Live acoustique
ATTACH;FMTTYPE=image/jpeg:https://www.pascalzenou.com/wp-content/uploads/2022/06/affiche-pascal-zenou-concert-sRVB-321.jpg
END:VEVENT
BEGIN:VEVENT
DTSTART;TZID=Europe/Paris:20220625T160000
DTEND;TZID=Europe/Paris:20220625T183000
DTSTAMP:20260420T124826
CREATED:20220616T120835Z
LAST-MODIFIED:20220616T121307Z
UID:1286-1656172800-1656181800@www.pascalzenou.com
SUMMARY:Showcase au Cultura de Balma
DESCRIPTION:Pascal Zenou se produira lors d’un showcase à 16h00 au magasin Cultura de Balma.
URL:https://www.pascalzenou.com/evenement/showcase-au-cultura-de-balma/
LOCATION:Occitanie
CATEGORIES:Showcase
ATTACH;FMTTYPE=image/jpeg:https://www.pascalzenou.com/wp-content/uploads/2022/06/affiche-pascal-zenou-concert-sRVB-321.jpg
END:VEVENT
BEGIN:VEVENT
DTSTART;TZID=Europe/Paris:20220621T203000
DTEND;TZID=Europe/Paris:20220621T210000
DTSTAMP:20260420T124826
CREATED:20220616T120615Z
LAST-MODIFIED:20220616T121326Z
UID:1281-1655843400-1655845200@www.pascalzenou.com
SUMMARY:Showase au Mega CGR de Blagnac
DESCRIPTION:Lors de l’avant-première de la sortie du film « Elvis »\, Pascal Zenou se produira lors d’un showcase à 20h30 au cinéma Mega CGR de Blagnac.
URL:https://www.pascalzenou.com/evenement/showase/
LOCATION:Occitanie
CATEGORIES:Showcase
ATTACH;FMTTYPE=image/jpeg:https://www.pascalzenou.com/wp-content/uploads/2022/06/affiche-pascal-zenou-concert-sRVB-321.jpg
END:VEVENT
BEGIN:VEVENT
DTSTART;TZID=Europe/Paris:20220513T203000
DTEND;TZID=Europe/Paris:20220513T223000
DTSTAMP:20260420T124826
CREATED:20220407T150330Z
LAST-MODIFIED:20220506T150730Z
UID:297-1652473800-1652481000@www.pascalzenou.com
SUMMARY:Basca'Live
DESCRIPTION:Après le showcase du 31 mars\, Pascal Zenou revient au Bascala pour un concert le 13 mai prochain pour présenter son nouvel album « Une ombre pour deux » au public toulousain.
URL:https://www.pascalzenou.com/evenement/bascalive-pascal-zenou/
LOCATION:Le Bascala\, 12 Rue de la Briqueterie\, Bruguières\, 31150\, France
CATEGORIES:Concert
ATTACH;FMTTYPE=image/jpeg:https://www.pascalzenou.com/wp-content/uploads/2022/04/Affiche-bascal-13-mai-scaled.jpg
END:VEVENT
BEGIN:VEVENT
DTSTART;TZID=Europe/Paris:20220331T200000
DTEND;TZID=Europe/Paris:20220331T220000
DTSTAMP:20260420T124826
CREATED:20220428T144846Z
LAST-MODIFIED:20220429T103923Z
UID:728-1648756800-1648764000@www.pascalzenou.com
SUMMARY:Présentation du nouvel album à la presse
DESCRIPTION:L’album “Une ombre pour deux“ est présenté pour la première fois en publique à la presse et des invités de la scène musicale toulousaine.
URL:https://www.pascalzenou.com/evenement/showcase/
LOCATION:Le Bascala\, 12 Rue de la Briqueterie\, Bruguières\, 31150\, France
CATEGORIES:Showcase
END:VEVENT
END:VCALENDAR